Workbook

Sheet Nhap ao
A1: BẢNG KÊ NHẬP ÁO ĐỒNG PHỤC HSSV
A3: Ngày/ Size | B3: TỔNG | C3: Tồn năm trước | D3: 19/7/16 | E3: 03/8/16 | F3: 05/8/16 | G3: 09/8/16 | H3: 15/8/16 | I3: 19/8/16 | J3: 23/8/16 | K3: 01/9/16 | L3: 07/9/16 | M3: 13/9/16 | N3: 20/9/16 | O3: 23/9/16 | P3: 07/10/16 | Q3: 19/10/16
A4: Tổng cộng | B4: =B5+B19 -> 8000 | C4: =C5+C19 -> 162 | D4: =D5+D19 -> 1400 | E4: =E5+E19 -> 350 | F4: =F5+F19 -> 343 | G4: =G5+G19 -> 1791 | H4: =H5+H19 -> 778 | I4: =I5+I19 -> 400 | ... S4: =S5+S19 -> 0
A5: NAM | B5: =SUM(B6:B18) -> 7306 | C5: =SUM(C6:C18) -> 136 | D5: =SUM(D6:D18) -> 1200 | E5: =SUM(E6:E18) -> 350 | F5: =SUM(F6:F18) -> 333 | G5: =SUM(G6:G18) -> 1480 | H5: =SUM(H6:H18) -> 778 | I5: =SUM(I6:I18) -> 400 | ... S5: =SUM(S6:S18) -> 0
A6: C3 | B6: =SUM(C6:S6) -> 900 | D6: 200 | G6: =150+150+100 -> 400 | K6: =150+150 -> 300
A7: C3D | B7: =SUM(C7:S7) -> 1383 | C7: 2 | D7: 200 | F7: 100 | G7: =100+93 -> 193 | H7: =48+50 -> 98 | I7: 250 | K7: =28+100 -> 128 | L7: 150 | O7: =130+132 -> 262
A8: C3D5 | B8: =SUM(C8:S8) -> 182 | J8: 123 | K8: 59
A9: C4 | B9: =SUM(C9:S9) -> 1587 | C9: 15 | D9: 200 | E9: 100 | F9: 74 | G9: =150+150+100-2 -> 398 | H9: 150 | I9: 150 | J9: 150 | L9: 77 | N9: 150 | O9: 73 | Q9: 50
A10: C4N | B10: =SUM(C10:S10) -> 1 | C10: 1
A11: C4D | B11: =SUM(C11:S11) -> 542 | C11: 9 | D11: 130 | H11: 114 | K11: =122-1 -> 121 | L11: 60 | N11: 58 | P11: 50
A12: C4D5 | B12: =SUM(C12:S12) -> 112 | J12: 56 | K12: 56
A13: C5 | B13: =SUM(C13:S13) -> 1304 | D13: 200 | E13: 100 | F13: 100 | G13: =150+100+150 -> 400 | H13: =150+100-2 -> 248 | J13: 85 | L13: 60 | M13: -1 | N13: 62 | P13: 50
A14: C5D | B14: =SUM(C14:S14) -> 256 | E14: 70 | K14: 129 | N14: 57
A15: C6 | B15: =SUM(C15:S15) -> 644 | C15: 18 | D15: 200 | E15: 80 | G15: 89 | H15: =46+61 -> 107 | L15: 40 | M15: 110
A16: C7 | B16: =SUM(C16:S16) -> 226 | C16: 41 | D16: 70 | H16: =62-1 -> 61 | K16: 54
A17: C8 | B17: =SUM(C17:S17) -> 71 | C17: 12 | F17: 29 | M17: 30
A18: C9 | B18: =SUM(C18:S18) -> 98 | C18: 38 | F18: 30 | M18: 30
A19: NỮ | B19: =SUM(B20:B28) -> 694 | C19: =SUM(C20:C28) -> 26 | D19: =SUM(D20:D28) -> 200 | E19: =SUM(E20:E28) -> 0 | F19: =SUM(F20:F28) -> 10 | G19: =SUM(G20:G28) -> 311 | H19: =SUM(H20:H28) -> 0 | I19: =SUM(I20:I28) -> 0 | ... S19: =SUM(S20:S28) -> 0
A20: C2 | B20: =SUM(C20:S20) -> 84 | C20: 5 | D20: 20 | G20: 20 | N20: 19 | Q20: 20
A21: C2D | B21: =SUM(C21:S21) -> 110 | D21: 30 | G21: 41 | N21: 19 | Q21: 20
A22: C3 | B22: =SUM(C22:S22) -> 130 | D22: 30 | G22: 50 | N22: 50
A23: C3D | B23: =SUM(C23:S23) -> 70 | D23: 30 | G23: 40
A24: C3H | B24: =SUM(C24:S24) -> 79 | C24: 8 | D24: 30 | G24: 42 | K24: -1
A25: C3HD | B25: =SUM(C25:S25) -> 92 | D25: 30 | G25: 42 | Q25: 20
A26: C4 | B26: =SUM(C26:S26) -> 92 | C26: 12 | D26: 30 | F26: 10 | G26: 40
A27: C4D | B27: =SUM(C27:S27) -> 19 | G27: 19
A28: C5 | B28: =SUM(C28:S28) -> 18 | C28: 1 | G28: 17

Sheet Nhap do TD
A1: BẢNG KÊ NHẬP ĐỒNG PHỤC THỂ DỤC HSSV
A3: Ngày/ Size | B3: TỔNG | C3: Tồn | D3: 01/9/16 | E3: 04/10/16 | F3: 07/10/16 | G3: 27/10/16 | H3: 27/10/16 | I3: 42808
A4: Tổng cộng | B4: =SUM(B5:B12) -> 3546 | C4: =SUM(C5:C12) -> 235 | D4: =SUM(D5:D12) -> 1300 | E4: =SUM(E5:E12) -> 246 | F4: =SUM(F5:F12) -> 1672 | G4: =SUM(G5:G12) -> -142 | H4: =SUM(H5:H12) -> 257 | I4: =SUM(I5:I12) -> -22 | J4: =J5+J8+J10 -> 3546
A5: S | B5: =SUM(C5:I5) -> 369 | C5: 17 | D5: =90+90 -> 180 | F5: =30+70+72 -> 172 | J5: =B5+B6+B7 -> 1707
A6: M | B6: =SUM(C6:I6) -> 378 | D6: =80+80 -> 160 | F6: =50+60+13+30 -> 153 | H6: 67 | I6: -2
A7: L | B7: =SUM(C7:I7) -> 960 | C7: 83 | D7: =50+60+80 -> 190 | F7: =50+50+50+80+120+120+49+70+60 -> 649 | G7: -6 | H7: 44
A8: XL | B8: =SUM(C8:I8) -> 942 | C8: 66 | D8: =80+60+80 -> 220 | F8: =49+110+50+50+50+50+110+110+9 -> 588 | G8: -4 | H8: 72 | J8: =B8+B9 -> 1449
A9: 2XL | B9: =SUM(C9:I9) -> 507 | C9: 12 | D9: =80+80+70+80+80 -> 390 | F9: =110 -> 110 | G9: -76 | H9: 74 | I9: -3
A10: 3XL | B10: =SUM(C10:I10) -> 278 | C10: 40 | D10: =80+80 -> 160 | E10: =90+7 -> 97 | G10: -2 | I10: -17 | J10: =B10+B11+B12 -> 390
A11: 4XL | B11: =SUM(C11:I11) -> 85 | C11: 17 | E11: =60+8 -> 68
A12: 5XL | B12: =SUM(C12:I12) -> 27 | E12: =40+40+1 -> 81 | G12: -54

Sheet Nhap do xuong
A1: BẢNG KÊ NHẬP ĐỒNG PHỤC BẢO HỘ LAO ĐỘNG HSSV
A3: Ngày/ Size | B3: TỔNG | C3: 06/12/2016 | D3: 12/01/16 | E3: 07/01/17 | F3: 17/02/17 | G3: 03/3/17 | H3: 13/3/17 | I3: 42815 | J3: 42822 | K3: 03/4/2017
A4: Tổng cộng | B4: =B5+B16 -> 3440 | C4: =C5+C16 -> 612 | D4: =D5+D16 -> 429 | E4: =E5+E16 -> 311 | F4: =F5+F16 -> 347 | G4: =G5+G16 -> 363 | H4: =H5+H16 -> 393 | I4: =I5+I16 -> 426 | ... M4: =M5+M16 -> 3440
A5: NAM | B5: =SUM(B6:B15) -> 2945 | C5: =SUM(C6:C15) -> 612 | D5: =SUM(D6:D15) -> 0 | E5: =SUM(E6:E15) -> 311 | F5: =SUM(F6:F15) -> 307 | G5: =SUM(G6:G15) -> 363 | H5: =SUM(H6:H15) -> 393 | I5: =SUM(I6:I15) -> 400 | ... M5: =SUM(M6:M15) -> 2945
A6: C3 | B6: =SUM(C6:L6) -> 245 | C6: 24 | F6: 51 | H6: 52 | J6: 118 | M6: =B6+B7 -> 392
A7: C3D | B7: =SUM(C7:L7) -> 147 | E7: 66 | G7: 40 | H7: 41
A8: C4 | B8: =SUM(C8:L8) -> 841 | C8: =53+46+67+55 -> 221 | E8: 68 | F8: 130 | H8: 150 | I8: 126 | K8: 146 | M8: =B8+B9 -> 1138
A9: C4D | B9: =SUM(C9:L9) -> 297 | E9: 68 | G9: 149 | I9: 80
A10: C5 | B10: =SUM(C10:L10) -> 744 | C10: =46+60+62+53 -> 221 | F10: 126 | H10: 150 | I10: 20 | J10: 68 | K10: 159 | M10: =B10+B11+B12 -> 1202
A11: C5D | B11: =SUM(C11:L11) -> 138 | G11: 70 | K11: 68
A12: C6 | B12: =SUM(C12:L12) -> 320 | C12: =55+66+25 -> 146 | I12: 174
A13: C7 | B13: =SUM(C13:L13) -> 109 | E13: 109 | M13: =B13+B14+B15 -> 213
A14: C8 | B14: =SUM(C14:L14) -> 52 | G14: 52
A15: C9 | B15: =SUM(C15:L15) -> 52 | G15: 52
A16: NỮ | B16: =SUM(B17:B24) -> 495 | C16: =SUM(C17:C24) -> 0 | D16: =SUM(D17:D24) -> 429 | E16: =SUM(E17:E24) -> 0 | F16: =SUM(F17:F24) -> 40 | G16: =SUM(G17:G24) -> 0 | H16: =SUM(H17:H24) -> 0 | I16: =SUM(I17:I24) -> 26 | ... M16: =SUM(M17:M24) -> 495
A17: C2 | B17: =SUM(C17:L17) -> 65 | D17: 64 | I17: 1 | M17: =B17+B18+B19+B20+B21+B22 -> 368
A18: C2D | B18: =SUM(C18:L18) -> 38 | D18: 38
A19: C3 | B19: =SUM(C19:L19) -> 39 | D19: 39
A20: C3H | B20: =SUM(C20:L20) -> 126 | D20: 126
A21: C3HD | B21: =SUM(C21:L21) -> 39 | D21: 39
A22: C3D | B22: =SUM(C22:L22) -> 61 | D22: 61
A23: C4 | B23: =SUM(C23:L23) -> 65 | D23: 40 | I23: 25 | M23: =B23+B24 -> 127
A24: C4D | B24: =SUM(C24:L24) -> 62 | D24: =14+8 -> 22 | F24: 40

Sheet Da nop KT
A1: BẢNG KÊ NỘP TIỀN VÀO PHÒNG KẾ HOẠCH - TÀI CHÍNH
A3: TT | B3: Ngày nộp | C3: Số phiếu thu | D3: Số tiền | E3: Áo nam | G3: Áo nữ | I3: Đồ TD S, M, L | K3: Đồ TD XL, XXL | M3: Đồ TD 3XL, 4XL, 5XL | O3: ĐPTH nam size C3 | Q3: ĐPTH nam size C4 | S3: ĐPTH nam size C5,6 | U3: ĐPTH nam size C7,8,9 | W3: ĐPTH nữ size C2,3 | Y3: ĐPTH nữ size C4,5
E4: Số lượng | F4: Thành tiền | G4: Số lượng | H4: Thành tiền | I4: Số lượng | J4: Thành tiền | K4: Số lượng | L4: Thành tiền | M4: Số lượng | N4: Thành tiền | O4: Số lượng | P4: Thành tiền | Q4: Số lượng | R4: Thành tiền | S4: Số lượng | T4: Thành tiền | U4: Số lượng | V4: Thành tiền | W4: Số lượng | X4: Thành tiền | Y4: Số lượng | Z4: Thành tiền
A5: 1 | B5: 02/8/2016 | C5: T/K/08001 | D5: =F5+H5+J5+L5+N5 -> 54819000 | E5: 342 | F5: =E5*135000 -> 46170000 | G5: 52 | H5: =G5*127000 -> 6604000 | I5: 8 | J5: =I5*130000 -> 1040000 | K5: 4 | L5: =K5*135000 -> 540000 | M5: 3 | N5: =M5*155000 -> 465000 | AA5: =SUM(E5:E8) -> 1721 | AB5: =SUM(G5:G8) -> 168
A6: 2 | B6: 03/8/2016 | C6: T/K/08006 | D6: =F6+H6+J6+L6+N6 -> 76882000 | E6: 500 | F6: =E6*135000 -> 67500000 | G6: 51 | H6: =G6*127000 -> 6477000 | I6: 13 | J6: =I6*130000 -> 1690000 | K6: 9 | L6: =K6*135000 -> 1215000 | N6: =M6*155000 -> 0
A7: 3 | B7: 08/8/2016 | C7: T/K/08014 | D7: =F7+H7+J7+L7+N7 -> 78218000 | E7: 538 | F7: =E7*135000 -> 72630000 | G7: 44 | H7: =G7*127000 -> 5588000 | J7: =I7*130000 -> 0 | L7: =K7*135000 -> 0 | N7: =M7*155000 -> 0
A8: 4 | B8: 09/8/2016 | C8: T/K/08017 | D8: =F8+H8+J8+L8+N8 -> 48702000 | E8: 341 | F8: =E8*135000 -> 46035000 | G8: 21 | H8: =G8*127000 -> 2667000 | J8: =I8*130000 -> 0 | L8: =K8*135000 -> 0 | N8: =M8*155000 -> 0
A9: 5 | B9: 11/8/2016 | C9: T/K/08022 | D9: =F9+H9+J9+L9+N9 -> 53808000 | E9: 376 | F9: =E9*135000 -> 50760000 | G9: 24 | H9: =G9*127000 -> 3048000 | J9: =I9*130000 -> 0 | L9: =K9*135000 -> 0 | N9: =M9*155000 -> 0 | AA9: =SUM(E9:E21) -> 3861 | AB9: =SUM(G9:G21) -> 366
A10: 6 | B10: 12/8/2016 | C10: T/K/08023 | D10: =F10+H10+J10+L10+N10 -> 42619000 | E10: 295 | F10: =E10*135000 -> 39825000 | G10: 22 | H10: =G10*127000 -> 2794000 | J10: =I10*130000 -> 0 | L10: =K10*135000 -> 0 | N10: =M10*155000 -> 0
A11: 7 | B11: 16/8/2016 | C11: T/K/08026 | D11: =F11+H11+J11+L11+N11 -> 85492000 | E11: 590 | F11: =E11*135000 -> 79650000 | G11: 46 | H11: =G11*127000 -> 5842000 | J11: =I11*130000 -> 0 | L11: =K11*135000 -> 0 | N11: =M11*155000 -> 0 | AA11: =SUM(I5:I6) -> 21
A12: 8 | B12: 17/8/2016 | C12: T/K/08023 | D12: =F12+H12+J12+L12+N12 -> 37639000 | E12: 244 | F12: =E12*135000 -> 32940000 | G12: 37 | H12: =G12*127000 -> 4699000 | J12: =I12*130000 -> 0 | L12: =K12*135000 -> 0 | N12: =M12*155000 -> 0 | AA12: =SUM(K5:K6) -> 13
A13: 9 | B13: 19/8/2016 | C13: T/K/08036 | D13: =F13+H13+J13+L13+N13 -> 62883000 | E13: 415 | F13: =E13*135000 -> 56025000 | G13: 54 | H13: =G13*127000 -> 6858000 | J13: =I13*130000 -> 0 | L13: =K13*135000 -> 0 | N13: =M13*155000 -> 0 | AA13: 3
A14: 10 | B14: 20/8/2016 | C14: T/K/08040 | D14: =F14+H14+J14+L14+N14 -> 38736000 | E14: 270 | F14: =E14*135000 -> 36450000 | G14: 18 | H14: =G14*127000 -> 2286000 | J14: =I14*130000 -> 0 | L14: =K14*135000 -> 0 | N14: =M14*155000 -> 0
A15: 11 | B15: 23/8/2016 | C15: T/K/08041 | D15: =F15+H15+J15+L15+N15 -> 35472000 | E15: 243 | F15: =E15*135000 -> 32805000 | G15: 21 | H15: =G15*127000 -> 2667000 | J15: =I15*130000 -> 0 | L15: =K15*135000 -> 0 | N15: =M15*155000 -> 0
A16: 12 | B16: 24/8/2016 | C16: T/K/08046 | D16: =F16+H16+J16+L16+N16 -> 18875000 | E16: 121 | F16: =E16*135000 -> 16335000 | G16: 20 | H16: =G16*127000 -> 2540000 | J16: =I16*130000 -> 0 | L16: =K16*135000 -> 0 | N16: =M16*155000 -> 0
A17: 13 | B17: 26/8/2016 | C17: T/K/08053 | D17: =F17+H17+J17+L17+N17 -> 31620000 | E17: 206 | F17: =E17*135000 -> 27810000 | G17: 30 | H17: =G17*127000 -> 3810000 | J17: =I17*130000 -> 0 | L17: =K17*135000 -> 0 | N17: =M17*155000 -> 0
A18: 14 | B18: 30/8/2016 | C18: T/K/08059 | D18: =F18+H18+J18+L18+N18 -> 44612000 | E18: 306 | F18: =E18*135000 -> 41310000 | G18: 26 | H18: =G18*127000 -> 3302000 | J18: =I18*130000 -> 0 | L18: =K18*135000 -> 0 | N18: =M18*155000 -> 0
A19: 15 | B19: 05/9/2016 | C19: T/K/09001 | D19: =F19+H19+J19+L19+N19 -> 42142000 | E19: 283 | F19: =E19*135000 -> 38205000 | G19: 31 | H19: =G19*127000 -> 3937000 | J19: =I19*130000 -> 0 | L19: =K19*135000 -> 0 | N19: =M19*155000 -> 0
A20: 16 | B20: 12/9/2016 | C20: T/K/09006 | D20: =F20+H20+J20+L20+N20 -> 51076000 | E20: 352 | F20: =E20*135000 -> 47520000 | G20: 28 | H20: =G20*127000 -> 3556000 | J20: =I20*132000 -> 0 | L20: =K20*143000 -> 0 | N20: =M20*155000 -> 0
A21: 17 | B21: 16/9/2016 | C21: T/K/09015 | D21: =F21+H21+J21+L21+N21 -> 32985000 | E21: 160 | F21: =E21*135000 -> 21600000 | G21: 9 | H21: =G21*127000 -> 1143000 | I21: 44 | J21: =I21*132000 -> 5808000 | K21: 18 | L21: =K21*143000 -> 2574000 | M21: 12 | N21: =M21*155000 -> 1860000
A22: 18 | B22: 20/9/2016 | C22: T/K/09016 | D22: =F22+H22+J22+L22+N22 -> 26812000 | E22: 92 | F22: =E22*135000 -> 12420000 | H22: =G22*127000 -> 0 | I22: 60 | J22: =I22*132000 -> 7920000 | K22: 29 | L22: =K22*143000 -> 4147000 | M22: 15 | N22: =M22*155000 -> 2325000 | AA22: =SUM(E22:E26) -> 992 | AB22: =SUM(G22:G26) -> 71
A23: 19 | B23: 23/9/2016 | C23: T/K/09022 | D23: =F23+H23+J23+L23+N23 -> 53972000 | E23: 339 | F23: =E23*135000 -> 45765000 | G23: 24 | H23: =G23*127000 -> 3048000 | I23: 24 | J23: =I23*137500 -> 3300000 | K23: 13 | L23: =K23*143000 -> 1859000 | M23: 0 | N23: =M23*165000 -> 0 | AA23: =SUM(I21:I22) -> 104
A24: 20 | B24: 27/9/2016 | C24: T/K/09025 | D24: =F24+H24+J24+L24+N24 -> 77309000 | E24: 347 | F24: =E24*135000 -> 46845000 | G24: 32 | H24: =G24*127000 -> 4064000 | I24: 120 | J24: =I24*137500 -> 16500000 | K24: 60 | L24: =K24*143000 -> 8580000 | M24: 8 | N24: =M24*165000 -> 1320000 | AA24: =SUM(K21:K22) -> 47
A25: 21 | B25: 30/9/2016 | C25: T/K/09033 | D25: =F25+H25+J25+L25+N25 -> 46028000 | E25: 142 | F25: =E25*135000 -> 19170000 | G25: 14 | H25: =G25*127000 -> 1778000 | I25: 120 | J25: =I25*137500 -> 16500000 | K25: 60 | L25: =K25*143000 -> 8580000 | M25: 0 | N25: =M25*165000 -> 0 | AA25: =SUM(M21:M22) -> 27
A26: 22 | B26: 05/10/2016 | C26: T/K/10002 | D26: =F26+H26+J26+L26+N26 -> 35504500 | E26: 72 | F26: =E26*135000 -> 9720000 | G26: 1 | H26: =G26*127000 -> 127000 | I26: 75 | J26: =I26*137500 -> 10312500 | K26: 90 | L26: =K26*143000 -> 12870000 | M26: 15 | N26: =M26*165000 -> 2475000 | AA26: =SUM(I23:I29) -> 840
A27: 23 | B27: 08/10/2016 | C27: T/K/10007 | D27: =F27+H27+J27+L27+N27 -> 38913000 | E27: 44 | F27: =E27*135000 -> 5940000 | G27: 1 | H27: =G27*127000 -> 127000 | I27: 100 | J27: =I27*137500 -> 13750000 | K27: 107 | L27: =K27*143000 -> 15301000 | M27: 23 | N27: =M27*165000 -> 3795000 | AA27: =SUM(K23:K29) -> 814 | AB27: =SUM(E27:E31) -> 192
A28: 24 | B28: 10/10/2016 | C28: T/K/10008 | D28: =F28+H28+J28+L28+N28 -> 78278500 | E28: 55 | F28: =E28*135000 -> 7425000 | G28: 5 | H28: =G28*127000 -> 635000 | I28: 201 | J28: =I28*137500 -> 27637500 | K28: 232 | L28: =K28*143000 -> 33176000 | M28: 57 | N28: =M28*165000 -> 9405000 | AA28: =SUM(M23:M29) -> 161 | AB28: =SUM(G27:G31) -> 17
A29: 25 | B29: 12/10/2016 | C29: T/K/10011 | D29: =F29+H29+J29+L29+N29 -> 78355000 | E29: 37 | F29: =E29*135000 -> 4995000 | G29: 2 | H29: =G29*127000 -> 254000 | I29: 200 | J29: =I29*137500 -> 27500000 | K29: 252 | L29: =K29*143000 -> 36036000 | M29: 58 | N29: =M29*165000 -> 9570000 | AA29: =SUM(E27:E34) -> 259 | AB29: =SUM(G27:G34) -> 28
A30: 26 | B30: 14/10/2016 | C30: T/K/10015 | D30: =F30+H30+J30+L30+N30 -> 51759500 | E30: 23 | F30: =E30*135000 -> 3105000 | G30: 3 | H30: =G30*127000 -> 381000 | I30: 185 | J30: =I30*137500 -> 25437500 | K30: 132 | L30: =K30*143000 -> 18876000 | M30: 24 | N30: =M30*165000 -> 3960000 | AA30: =SUM(I30:I34) -> 646
A31: 27 | B31: 17/10/2016 | C31: T/K/10017 | D31: =F31+H31+J31+L31+N31 -> 51450000 | E31: 33 | F31: =E31*135000 -> 4455000 | G31: 6 | H31: =G31*127000 -> 762000 | I31: 156 | J31: =I31*137500 -> 21450000 | K31: 141 | L31: =K31*143000 -> 20163000 | M31: 28 | N31: =M31*165000 -> 4620000 | AA31: =SUM(K30:K34) -> 456
A32: 28 | B32: 19/10/2016 | C32: T/K/10021 | D32: =F32+H32+J32+L32+N32 -> 34010000 | E32: 19 | F32: =E32*135000 -> 2565000 | G32: 3 | H32: =G32*127000 -> 381000 | I32: 128 | J32: =I32*137500 -> 17600000 | K32: 78 | L32: =K32*143000 -> 11154000 | M32: 14 | N32: =M32*165000 -> 2310000 | AA32: =SUM(M30:M34) -> 95
A33: 29 | B33: 27/10/2016 | C33: T/K/10034 | D33: =F33+H33+J33+L33+N33 -> 32632500 | E33: 29 | F33: =E33*135000 -> 3915000 | G33: 4 | H33: =G33*127000 -> 508000 | I33: 91 | J33: =I33*137500 -> 12512500 | K33: 89 | L33: =K33*143000 -> 12727000 | M33: 18 | N33: =M33*165000 -> 2970000 | AA33: =SUM(E35:E40) -> 72 | AB33: =SUM(G35:G40) -> 19 | AC33: trắng
A34: 30 | B34: 07/11/2016 | C34: T/K/11015 | D34: =F34+H34+J34+L34+N34 -> 19001000 | E34: 19 | F34: =E34*135000 -> 2565000 | G34: 4 | H34: =G34*127000 -> 508000 | I34: 86 | J34: =I34*137500 -> 11825000 | K34: 16 | L34: =K34*143000 -> 2288000 | M34: 11 | N34: =M34*165000 -> 1815000 | AA34: =SUM(I35:I40) -> 36 | AC34: TD
A35: 31 | B35: 17/11/2016 | C35: T/K/11036 | D35: =F35+H35+J35+L35+N35 -> 11809000 | E35: 22 | F35: =E35*135000 -> 2970000 | G35: 1 | H35: =G35*127000 -> 127000 | I35: 22 | J35: =I35*137500 -> 3025000 | K35: 34 | L35: =K35*143000 -> 4862000 | M35: 5 | N35: =M35*165000 -> 825000 | AA35: =SUM(K35:K40) -> 63
A36: 32 | B36: 05/12/2016 | C36: T/K/12001 | D36: =F36+H36+J36+L36+N36 -> 8700000 | E36: 21 | F36: =E36*135000 -> 2835000 | G36: 4 | H36: =G36*127000 -> 508000 | I36: 14 | J36: =I36*137500 -> 1925000 | K36: 24 | L36: =K36*143000 -> 3432000 | M36: 0 | N36: =M36*165000 -> 0 | AA36: =SUM(M35:M40) -> 6
A37: 33 | B37: 06/01/2017 | C37: T/K/ 01003 | D37: =F37+H37+J37+L37+N37+P37+R37+T37+V37+X37+Z37 -> 32244000 | E37: 19 | F37: =E37*135000 -> 2565000 | G37: 5 | H37: =G37*127000 -> 635000 | J37: =I37*137500 -> 0 | K37: 3 | L37: =K37*143000 -> 429000 | M37: 1 | N37: =M37*165000 -> 165000 | O37: 24 | P37: =O37*135000 -> 3240000 | Q37: 91 | R37: =Q37*140000 -> 12740000 | S37: 86 | T37: =S37*145000 -> 12470000 | V37: =U37*150000 -> 0 | X37: =W37*130000 -> 0 | Z37: =Y37*135000 -> 0 | AA37: =SUM(O37:O40) -> 87 | AB37: =SUM(W37:W40) -> 152 | AC37: Xanh
A38: 34 | B38: 12/01/2017 | C38: T/K/ 01021 | D38: =F38+H38+J38+L38+N38+P38+R38+T38+V38+X38+Z38 -> 20808000 | E38: 1 | F38: =E38*135000 -> 135000 | G38: 1 | H38: =G38*127000 -> 127000 | J38: =I38*137500 -> 0 | K38: 2 | L38: =K38*143000 -> 286000 | N38: =M38*165000 -> 0 | P38: =O38*135000 -> 0 | Q38: 84 | R38: =Q38*140000 -> 11760000 | S38: 35 | T38: =S38*145000 -> 5075000 | V38: =U38*150000 -> 0 | W38: 17 | X38: =W38*130000 -> 2210000 | Y38: 9 | Z38: =Y38*135000 -> 1215000 | AA38: =SUM(Q37:Q40) -> 345 | AB38: =SUM(Y37:Y40) -> 42
A39: 35 | B39: 13/02/2017 | C39: T/K/ 02004 | D39: =F39+H39+J39+L39+N39+P39+R39+T39+V39+X39+Z39 -> 57756000 | E39: 7 | F39: =E39*135000 -> 945000 | G39: 3 | H39: =G39*127000 -> 381000 | J39: =I39*137500 -> 0 | L39: =K39*143000 -> 0 | N39: =M39*165000 -> 0 | O39: 33 | P39: =O39*135000 -> 4455000 | Q39: 100 | R39: =Q39*140000 -> 14000000 | S39: 146 | T39: =S39*145000 -> 21170000 | U39: 9 | V39: =U39*150000 -> 1350000 | W39: 95 | X39: =W39*130000 -> 12350000 | Y39: 23 | Z39: =Y39*135000 -> 3105000 | AA39: =SUM(S37:S40) -> 327
A40: 36 | B40: 23/02/2017 | C40: T/K/ 01021 | D40: =F40+H40+J40+L40+N40+P40+R40+T40+V40+X40+Z40 -> 30605000 | E40: 2 | F40: =E40*135000 -> 270000 | G40: 5 | H40: =G40*127000 -> 635000 | J40: =I40*137500 -> 0 | L40: =K40*143000 -> 0 | N40: =M40*165000 -> 0 | O40: 30 | P40: =O40*135000 -> 4050000 | Q40: 70 | R40: =Q40*140000 -> 9800000 | S40: 60 | T40: =S40*145000 -> 8700000 | U40: 4 | V40: =U40*150000 -> 600000 | W40: 40 | X40: =W40*130000 -> 5200000 | Y40: 10 | Z40: =Y40*135000 -> 1350000 | AA40: =SUM(U37:U40) -> 13
A41: 37 | B41: 07/3/2017 | C41: T/K/03011 | D41: =F41+H41+J41+L41+N41+P41+R41+T41+V41+X41+Z41 -> 36740000 | E41: 3 | F41: =E41*135000 -> 405000 | H41: =G41*127000 -> 0 | J41: =I41*137500 -> 0 | L41: =K41*143000 -> 0 | N41: =M41*165000 -> 0 | O41: 61 | P41: =O41*135000 -> 8235000 | Q41: 68 | R41: =Q41*140000 -> 9520000 | S41: 51 | T41: =S41*145000 -> 7395000 | U41: 15 | V41: =U41*150000 -> 2250000 | W41: 49 | X41: =W41*130000 -> 6370000 | Y41: 19 | Z41: =Y41*135000 -> 2565000 | AA41: =SUM(E41:E49) -> 38 | AB41: =SUM(G41:G49) -> 1 | AC41: trắng
...

Sheet Nhap-xuat-ton
A1: BẢNG THỐNG KÊ SỐ NHẬP - XUẤT - TỒN KHO
A3: TT | B3: ÁO TRẮNG | F3: ÁO XANH | J3: THỂ DỤC
B4: SIZE | C4: NHẬP | D4: XUẤT | E4: TỒN | F4: SIZE | G4: NHẬP | H4: XUẤT | I4: TỒN | J4: SIZE | K4: NHẬP | L4: XUẤT | M4: TỒN
B5: ÁO NAM | C5: ='Nhap ao'!B5 -> 7306 | D5: ='Da nop KT'!E51 -> 6949 | E5: =C5-D5 -> 357 | F5: C3 nam | G5: ='Nhap do xuong'!B6+'Nhap do xuong'!B7 -> 392 | H5: ='Da nop KT'!O51 -> 340 | I5: =G5-H5 -> 52 | J5: S, M, L | K5: ='Nhap do TD'!B5+'Nhap do TD'!B6+'Nhap do TD'!B7 -> 1707 | L5: ='Da nop KT'!I51 -> 1657 | M5: =K5-L5 -> 50
B6: ÁO NỮ | C6: ='Nhap ao'!B19 -> 694 | D6: ='Da nop KT'!G51 -> 654 | E6: =C6-D6 -> 40 | F6: C4 nam | G6: ='Nhap do xuong'!B8+'Nhap do xuong'!B9 -> 1138 | H6: ='Da nop KT'!Q51 -> 1079 | I6: =G6-H6 -> 59 | J6: XL, 2XL | K6: ='Nhap do TD'!B8+'Nhap do TD'!B9 -> 1449 | L6: ='Da nop KT'!K51 -> 1401 | M6: =K6-L6 -> 48
E7: =C7-D7 -> 0 | F7: C5, C6 nam | G7: ='Nhap do xuong'!B10+'Nhap do xuong'!B11+'Nhap do xuong'!B12 -> 1202 | H7: ='Da nop KT'!S51 -> 846 | I7: =G7-H7 -> 356 | J7: 3XL, 4XL, 5XL | K7: ='Nhap do TD'!B10+'Nhap do TD'!B11+'Nhap do TD'!B12 -> 390 | L7: ='Da nop KT'!M51 -> 293 | M7: =K7-L7 -> 97
F8: C7, C8, C9 nam | G8: ='Nhap do xuong'!B13+'Nhap do xuong'!B14+'Nhap do xuong'!B15 -> 213 | H8: ='Da nop KT'!U51 -> 103 | I8: =G8-H8 -> 110
F9: C2, C3 nữ | G9: ='Nhap do xuong'!B17+'Nhap do xuong'!B18+'Nhap do xuong'!B19+'Nhap do xuong'!B20+'Nhap do xuong'!B21+'Nhap do xuong'!B22 -> 368 | H9: ='Da nop KT'!W51 -> 300 | I9: =G9-H9 -> 68
F10: C4, C5 nữ | G10: ='Nhap do xuong'!B23+'Nhap do xuong'!B24 -> 127 | H10: ='Da nop KT'!Y51 -> 70 | I10: =G10-H10 -> 57
I12: =SUM(I5:I11) -> 702

Sheet ke nop tien
A1: TRƯỜNG CAO ĐẲNG KỸ THUẬT | C1: CỘNG HOÀ XÃ HỘI CHỦ NGHĨA VIỆT NAM
A2: LÝ TỰ TRỌNG TP. HỒ CHÍ MINH | C2: Độc lập - Tự do - Hạnh phúc
A3: PHÒNG CÔNG TÁC CHÍNH TRỊ
A4: - HỌC SINH SINH VIÊN
D5: TP. Hồ Chí Minh, ngày 23 tháng 6 năm 2017
A7: BẢNG KÊ NỘP TIỀN BÁN ĐỒNG PHỤC HSSV NĂM HỌC 2016-2017
A8: Đến ngày 23/6/2017
A10: TT | B10: Loại đồng phục | C10: ĐVT | D10: Số lượng | E10: Đơn giá | F10: Thành tiền | G10: Ghi chú
A11: 1 | B11: Áo trắng nam | C11: Cái | D11: 330 | E11: 135000 | F11: =D11*E11 -> 44550000
A12: 2 | B12: Áo trắng nữ | C12: Cái | D12: 31 | E12: 127000 | F12: =D12*E12 -> 3937000
A13: 3 | B13: Áo thực hành nam size C3 | C13: Cái | D13: 15 | E13: 135000 | F13: =D13*E13 -> 2025000
A14: 4 | B14: Áo thực hành nam size C4 | C14: Cái | D14: 47 | E14: 140000 | F14: =D14*E14 -> 6580000
A15: 5 | B15: Áo thực hành nam size C5,6 | C15: Cái | D15: 60 | E15: 145000 | F15: =D15*E15 -> 8700000
A16: 6 | B16: Áo thực hành nam size C7,8,9 | C16: Cái | D16: 20 | E16: 150000 | F16: =D16*E16 -> 3000000
A17: 7 | B17: Áo thực hành nữ size C2,3 | C17: Cái | D17: 10 | E17: 130000 | F17: =D17*E17 -> 1300000
A18: 8 | B18: Áo thực hành nữ size C4,5 | C18: Cái | D18: 3 | E18: 135000 | F18: =D18*E18 -> 405000
A19: 9 | B19: Đồ thể dục size S, M, | C19: Bộ | D19: 34 | E19: 138000 | F19: =D19*E19 -> 4692000
A20: 10 | B20: Đồ thể dục size L, XL, XXL | C20: Bộ | D20: 30 | E20: 145000 | F20: =D20*E20 -> 4350000
A21: 11 | B21: Đồ thể dục size 3XL, 4XL, 5XL | C21: Bộ | D21: 31 | E21: 165000 | F21: =D21*E21 -> 5115000
B22: Tổng cộng | F22: =SUM(F11:F21) -> 84654000
A24: Số tiền bằng chữ: (Tám mươi bốn triệu sáu trăm năm mươi bốn nghìn đồng)
B26: PHÓ TRƯỞNG PHÒNG | F26: Người nộp tiền
B32: Hoàng Ngọc Cảnh | F32: Nguyễn Thị Kim Anh

Sheet Sheet2
A1: Áo đã bán | B1: số lượng | C1: Thành tiền
A2: Tổng cộng | B2: =SUM(B3:B4) -> 7603 | C2: =SUM(C3:C4) -> 1021173000
A3: Áo nam | B3: ='Da nop KT'!E51 -> 6949 | C3: ='Da nop KT'!F51 -> 938115000
A4: Áo nữ | B4: ='Da nop KT'!G51 -> 654 | C4: ='Da nop KT'!H51 -> 83058000
A7: Đồ TD đã bán | B7: số lượng | C7: Thành tiền
A8: Tổng cộng | B8: =SUM(B9:B11) -> 3351 | C8: =SUM(C9:C11) -> 475392000
A9: Size S, M, L | B9: ='Da nop KT'!I51 -> 1657 | C9: ='Da nop KT'!J51 -> 227108000
A10: Size XL, XXL | B10: ='Da nop KT'!K51 -> 1401 | C10: ='Da nop KT'!L51 -> 200239000
A11: Size 3XL, 4XL, 5XL | B11: ='Da nop KT'!M51 -> 293 | C11: ='Da nop KT'!N51 -> 48045000
A13: Cô Hoàng nhận từ phòng KT | B13: TC | C13: Áo nam | D13: Áo nữ | F13: Phòng nhận
A14: Lần 1 | B14: =SUM(C14:D14) -> 1889 | C14: 1721 | D14: 168 | F14: Lần 1 | G14: =SUM(B14:B15) -> 6116
A15: Lần 2 | B15: =SUM(C15:D15) -> 4227 | C15: 3861 | D15: 366
A16: Lần 3 | B16: =SUM(C16:D16) -> 1063 | C16: 992 | D16: 71 | F16: Lần 2 | G16: =SUM(B16:B17) -> 1350 | H16: 3227
A17: Lần 4 | B17: =SUM(C17:D17) -> 287 | C17: 259 | D17: 28
C18: =SUM(C14:C17) -> 6833 | D18: =SUM(D14:D17) -> 633
A19: Chị Thuận nhận từ Phòng KT | B19: TC | C19: S,M,L | D19: XL,.XXL | E19: 3XL, 4XL, 5XL
A20: Lần 1 | B20: =SUM(C20:E20) -> 2030 | C20: =21+104+840 -> 965 | D20: =13+47+814 -> 874 | E20: =3+27+161 -> 191
A21: Lần 2 | B21: =SUM(C21:E21) -> 1197 | C21: 646 | D21: 456 | E21: 95
B22: =SUM(B20:B21) -> 3227 | C22: =SUM(C20:C21) -> 1611 | D22: =SUM(D20:D21) -> 1330 | E22: =SUM(E20:E21) -> 286

Sheet Sheet3
A1: Áo nam 135k | B1: Áo nữ 127k | C1: Thể dục S, M, L 137,5k | D1: Thể dục XL, XXL 143k | E1: Thể dục 3XL, 4XL, 5XL 165k | F1: Áo nam 135k | G1: Áo nữ 127k | H1: Thể dục S, M, L 137,5k | I1: Thể dục XL, XXL 143k | J1: Thể dục 3XL, 4XL, 5XL 165k

Sheet Sheet3 (2)
A1: Áo trắng nam 135.000 | B1: Áo trắng nữ 127.000 | C1: Áo xanh nam C2, C3 135.000 | D1: Áo xanh nam C4 140.000 | E1: Áo xanh nam C5, C6 145.000 | F1: Áo xanh nam C7, C8, C9 150.000 | G1: Áo xanh Nữ C2, C3 130.000 | H1: Áo xanh Nữ C4, C5 135.000 | I1: Đồ Thể dục S, M 138.000 | J1: Đồ Thể dục L, XL, 2XL 145.000 | K1: Đồ Thể dục 3XL, 4XL, 5XL 165.000

Sheet Sheet4

Sheet Sheet5
